BEGIN:VCALENDAR
VERSION:2.0
PRODID:-//Financial Markets Inc - ECPv6.15.20//NONSGML v1.0//EN
CALSCALE:GREGORIAN
METHOD:PUBLISH
X-ORIGINAL-URL:https://www.fmiagent.com
X-WR-CALDESC:Events for Financial Markets Inc
REFRESH-INTERVAL;VALUE=DURATION:PT1H
X-Robots-Tag:noindex
X-PUBLISHED-TTL:PT1H
BEGIN:VTIMEZONE
TZID:America/Chicago
BEGIN:DAYLIGHT
TZOFFSETFROM:-0600
TZOFFSETTO:-0500
TZNAME:CDT
DTSTART:20210314T080000
END:DAYLIGHT
BEGIN:STANDARD
TZOFFSETFROM:-0500
TZOFFSETTO:-0600
TZNAME:CST
DTSTART:20211107T070000
END:STANDARD
BEGIN:DAYLIGHT
TZOFFSETFROM:-0600
TZOFFSETTO:-0500
TZNAME:CDT
DTSTART:20220313T080000
END:DAYLIGHT
BEGIN:STANDARD
TZOFFSETFROM:-0500
TZOFFSETTO:-0600
TZNAME:CST
DTSTART:20221106T070000
END:STANDARD
BEGIN:DAYLIGHT
TZOFFSETFROM:-0600
TZOFFSETTO:-0500
TZNAME:CDT
DTSTART:20230312T080000
END:DAYLIGHT
BEGIN:STANDARD
TZOFFSETFROM:-0500
TZOFFSETTO:-0600
TZNAME:CST
DTSTART:20231105T070000
END:STANDARD
END:VTIMEZONE
BEGIN:VEVENT
DTSTART;TZID=America/Chicago:20220601T093000
DTEND;TZID=America/Chicago:20220601T103000
DTSTAMP:20260424T040722
CREATED:20220526T145502Z
LAST-MODIFIED:20220526T145502Z
UID:33467-1654075800-1654079400@www.fmiagent.com
SUMMARY:[WEBINAR] Introducing NLG’s New SummitLife IUL: A Large Case Cash Accumulation Solution from National Life Group
DESCRIPTION:<!--themify_builder_content-->
 <div id="themify_builder_content-101596" data-postid="101596" class="themify_builder_content themify_builder_content-101596 themify_builder tf_clear">
 <div  data-lazy="1" class="module_row themify_builder_row tb_97io953 tf_w">
 <div class="row_inner col_align_top tb_col_count_1 tf_box tf_rel">
 <div  data-lazy="1" class="module_column tb-column col-full tb_yu6m953 first">
 <!-- module text -->
 <div  class="module module-text tb_wxpf953   " data-lazy="1">
 <div  class="tb_text_wrap">
 <p>Join Us to Learn About the New Enhanced eApp Process for DI Products &#8211; available in all states except California. This updated process is designed to streamline underwriting and speed up decision-making. Instead of completing Lifestyle and Health questions through a third‑party telephone interview, your clients will now answer these questions directly within the application. This shift is intended to create a smoother, faster, and more transparent experience for both you and your clients. During this session we will walk you through the key benefits of the Enhanced eApp process, what your clients will see and experience when completing the application, and how this change can help accelerate underwriting decisions. Even if you can’t attend live, we encourage you to register so you’ll automatically receive all follow‑up materials after the session.</p>    </div>
 </div>
 <!-- /module text --><!-- module buttons -->
 <div  class="module module-buttons tb_xvb0954 buttons-horizontal solid   squared" data-lazy="1">
 <div class="module-buttons-item tf_in_flx">
 <a href="https://events.teams.microsoft.com/event/5336656a-07b7-4dbd-bd0e-16feb8c1cd31@7f17b26a-7110-46ab-a570-fbc53306129f" class="ui builder_button tf_in_flx tb_default_color" target="_blank" rel="noopener">
 REGISTER NOW                                        </a>
 </div>
 </div>
 <!-- /module buttons -->
 </div>
 </div>
 </div>
 </div>
 <!--/themify_builder_content--><br><br>View Full Event Description Here: <a href="https://www.fmiagent.com/event/webinar-introducing-nlgs-new-summitlife-iul-a-large-case-cash-accumulation-solution-from-national-life-group-8/">https://www.fmiagent.com/event/webinar-introducing-nlgs-new-summitlife-iul-a-large-case-cash-accumulation-solution-from-national-life-group-8/</a>
URL:https://www.fmiagent.com/event/webinar-introducing-nlgs-new-summitlife-iul-a-large-case-cash-accumulation-solution-from-national-life-group-8/
CATEGORIES:Life Insurance,National Life Group (LSW),Upcoming
X-ALT-DESC;FMTTYPE=text/html:<!--themify_builder_content-->
 <div id="themify_builder_content-101596" data-postid="101596" class="themify_builder_content themify_builder_content-101596 themify_builder tf_clear">
 <div  data-lazy="1" class="module_row themify_builder_row tb_97io953 tf_w">
 <div class="row_inner col_align_top tb_col_count_1 tf_box tf_rel">
 <div  data-lazy="1" class="module_column tb-column col-full tb_yu6m953 first">
 <!-- module text -->
 <div  class="module module-text tb_wxpf953   " data-lazy="1">
 <div  class="tb_text_wrap">
 <p>Join Us to Learn About the New Enhanced eApp Process for DI Products &#8211; available in all states except California. This updated process is designed to streamline underwriting and speed up decision-making. Instead of completing Lifestyle and Health questions through a third‑party telephone interview, your clients will now answer these questions directly within the application. This shift is intended to create a smoother, faster, and more transparent experience for both you and your clients. During this session we will walk you through the key benefits of the Enhanced eApp process, what your clients will see and experience when completing the application, and how this change can help accelerate underwriting decisions. Even if you can’t attend live, we encourage you to register so you’ll automatically receive all follow‑up materials after the session.</p>    </div>
 </div>
 <!-- /module text --><!-- module buttons -->
 <div  class="module module-buttons tb_xvb0954 buttons-horizontal solid   squared" data-lazy="1">
 <div class="module-buttons-item tf_in_flx">
 <a href="https://events.teams.microsoft.com/event/5336656a-07b7-4dbd-bd0e-16feb8c1cd31@7f17b26a-7110-46ab-a570-fbc53306129f" class="ui builder_button tf_in_flx tb_default_color" target="_blank" rel="noopener">
 REGISTER NOW                                        </a>
 </div>
 </div>
 <!-- /module buttons -->
 </div>
 </div>
 </div>
 </div>
 <!--/themify_builder_content--><br><br>View Full Event Description Here: <a href="https://www.fmiagent.com/event/webinar-introducing-nlgs-new-summitlife-iul-a-large-case-cash-accumulation-solution-from-national-life-group-8/">https://www.fmiagent.com/event/webinar-introducing-nlgs-new-summitlife-iul-a-large-case-cash-accumulation-solution-from-national-life-group-8/</a>
LOCATION:https://www.fmiagent.com/event/webinar-introducing-nlgs-new-summitlife-iul-a-large-case-cash-accumulation-solution-from-national-life-group-8/
END:VEVENT
BEGIN:VEVENT
DTSTART;TZID=America/Chicago:20220601T110000
DTEND;TZID=America/Chicago:20220601T120000
DTSTAMP:20260424T040722
CREATED:20211229T170810Z
LAST-MODIFIED:20211229T170836Z
UID:26241-1654081200-1654084800@www.fmiagent.com
SUMMARY:[WEBINAR] Lafayette Life Illustration System Training from Lafayette Life
DESCRIPTION:<!--themify_builder_content-->
 <div id="themify_builder_content-101596" data-postid="101596" class="themify_builder_content themify_builder_content-101596 themify_builder tf_clear">
 <div  data-lazy="1" class="module_row themify_builder_row tb_97io953 tf_w">
 <div class="row_inner col_align_top tb_col_count_1 tf_box tf_rel">
 <div  data-lazy="1" class="module_column tb-column col-full tb_yu6m953 first">
 <!-- module text -->
 <div  class="module module-text tb_wxpf953   " data-lazy="1">
 <div  class="tb_text_wrap">
 <p>Join Us to Learn About the New Enhanced eApp Process for DI Products &#8211; available in all states except California. This updated process is designed to streamline underwriting and speed up decision-making. Instead of completing Lifestyle and Health questions through a third‑party telephone interview, your clients will now answer these questions directly within the application. This shift is intended to create a smoother, faster, and more transparent experience for both you and your clients. During this session we will walk you through the key benefits of the Enhanced eApp process, what your clients will see and experience when completing the application, and how this change can help accelerate underwriting decisions. Even if you can’t attend live, we encourage you to register so you’ll automatically receive all follow‑up materials after the session.</p>    </div>
 </div>
 <!-- /module text --><!-- module buttons -->
 <div  class="module module-buttons tb_xvb0954 buttons-horizontal solid   squared" data-lazy="1">
 <div class="module-buttons-item tf_in_flx">
 <a href="https://events.teams.microsoft.com/event/5336656a-07b7-4dbd-bd0e-16feb8c1cd31@7f17b26a-7110-46ab-a570-fbc53306129f" class="ui builder_button tf_in_flx tb_default_color" target="_blank" rel="noopener">
 REGISTER NOW                                        </a>
 </div>
 </div>
 <!-- /module buttons -->
 </div>
 </div>
 </div>
 </div>
 <!--/themify_builder_content--><br><br>View Full Event Description Here: <a href="https://www.fmiagent.com/event/webinar-lafayette-life-illustration-system-training-from-lafayette-life-11/">https://www.fmiagent.com/event/webinar-lafayette-life-illustration-system-training-from-lafayette-life-11/</a>
URL:https://www.fmiagent.com/event/webinar-lafayette-life-illustration-system-training-from-lafayette-life-11/
CATEGORIES:Lafayette Life,Life Insurance,Upcoming
X-ALT-DESC;FMTTYPE=text/html:<!--themify_builder_content-->
 <div id="themify_builder_content-101596" data-postid="101596" class="themify_builder_content themify_builder_content-101596 themify_builder tf_clear">
 <div  data-lazy="1" class="module_row themify_builder_row tb_97io953 tf_w">
 <div class="row_inner col_align_top tb_col_count_1 tf_box tf_rel">
 <div  data-lazy="1" class="module_column tb-column col-full tb_yu6m953 first">
 <!-- module text -->
 <div  class="module module-text tb_wxpf953   " data-lazy="1">
 <div  class="tb_text_wrap">
 <p>Join Us to Learn About the New Enhanced eApp Process for DI Products &#8211; available in all states except California. This updated process is designed to streamline underwriting and speed up decision-making. Instead of completing Lifestyle and Health questions through a third‑party telephone interview, your clients will now answer these questions directly within the application. This shift is intended to create a smoother, faster, and more transparent experience for both you and your clients. During this session we will walk you through the key benefits of the Enhanced eApp process, what your clients will see and experience when completing the application, and how this change can help accelerate underwriting decisions. Even if you can’t attend live, we encourage you to register so you’ll automatically receive all follow‑up materials after the session.</p>    </div>
 </div>
 <!-- /module text --><!-- module buttons -->
 <div  class="module module-buttons tb_xvb0954 buttons-horizontal solid   squared" data-lazy="1">
 <div class="module-buttons-item tf_in_flx">
 <a href="https://events.teams.microsoft.com/event/5336656a-07b7-4dbd-bd0e-16feb8c1cd31@7f17b26a-7110-46ab-a570-fbc53306129f" class="ui builder_button tf_in_flx tb_default_color" target="_blank" rel="noopener">
 REGISTER NOW                                        </a>
 </div>
 </div>
 <!-- /module buttons -->
 </div>
 </div>
 </div>
 </div>
 <!--/themify_builder_content--><br><br>View Full Event Description Here: <a href="https://www.fmiagent.com/event/webinar-lafayette-life-illustration-system-training-from-lafayette-life-11/">https://www.fmiagent.com/event/webinar-lafayette-life-illustration-system-training-from-lafayette-life-11/</a>
LOCATION:https://www.fmiagent.com/event/webinar-lafayette-life-illustration-system-training-from-lafayette-life-11/
END:VEVENT
END:VCALENDAR