BEGIN:VCALENDAR
VERSION:2.0
PRODID:-//Financial Markets Inc - ECPv6.15.20//NONSGML v1.0//EN
CALSCALE:GREGORIAN
METHOD:PUBLISH
X-ORIGINAL-URL:https://www.fmiagent.com
X-WR-CALDESC:Events for Financial Markets Inc
REFRESH-INTERVAL;VALUE=DURATION:PT1H
X-Robots-Tag:noindex
X-PUBLISHED-TTL:PT1H
BEGIN:VTIMEZONE
TZID:America/Chicago
BEGIN:DAYLIGHT
TZOFFSETFROM:-0600
TZOFFSETTO:-0500
TZNAME:CDT
DTSTART:20250309T080000
END:DAYLIGHT
BEGIN:STANDARD
TZOFFSETFROM:-0500
TZOFFSETTO:-0600
TZNAME:CST
DTSTART:20251102T070000
END:STANDARD
BEGIN:DAYLIGHT
TZOFFSETFROM:-0600
TZOFFSETTO:-0500
TZNAME:CDT
DTSTART:20260308T080000
END:DAYLIGHT
BEGIN:STANDARD
TZOFFSETFROM:-0500
TZOFFSETTO:-0600
TZNAME:CST
DTSTART:20261101T070000
END:STANDARD
BEGIN:DAYLIGHT
TZOFFSETFROM:-0600
TZOFFSETTO:-0500
TZNAME:CDT
DTSTART:20270314T080000
END:DAYLIGHT
BEGIN:STANDARD
TZOFFSETFROM:-0500
TZOFFSETTO:-0600
TZNAME:CST
DTSTART:20271107T070000
END:STANDARD
END:VTIMEZONE
BEGIN:VEVENT
DTSTART;TZID=America/Chicago:20260205T110000
DTEND;TZID=America/Chicago:20260205T120000
DTSTAMP:20260423T064211
CREATED:20260113T225104Z
LAST-MODIFIED:20260113T225104Z
UID:96090-1770289200-1770292800@www.fmiagent.com
SUMMARY:[WEBINAR] The Sandwich Generation from Athene
DESCRIPTION:<!--themify_builder_content-->
 <div id="themify_builder_content-96090" data-postid="96090" class="themify_builder_content themify_builder_content-96090 themify_builder tf_clear">
 <div  data-lazy="1" class="module_row themify_builder_row tb_zt5q971 tf_w">
 <div class="row_inner col_align_top tb_col_count_1 tf_box tf_rel">
 <div  data-lazy="1" class="module_column tb-column col-full tb_8w58971 first">
 <!-- module text -->
 <div  class="module module-text tb_oi5e971   " data-lazy="1">
 <div  class="tb_text_wrap">
 <p>Join Athene’s Patti Hausherr, VP Sales Strategy, as she discusses why the Sandwich Generation may deliver the next wave of America’s retirement crisis, and how you can help clients work toward a remarkable retirement.</p><ul><li>Gain insights about the Sandwich Generation and the challenges they face</li><li>Learn how caregiving can impact the demographic physically, emotionally and financially</li><li>Discover ways to help Sandwich Generation clients support older loved ones and launch adult children while financially planning for their own secure retirement </li></ul>    </div>
 </div>
 <!-- /module text --><!-- module buttons -->
 <div  class="module module-buttons tb_v6y1972 buttons-horizontal solid   squared" data-lazy="1">
 <div class="module-buttons-item tf_in_flx">
 <a href="https://event.on24.com/wcc/r/5151312/564BD2179AF4AA9B56A4D36A67044966" class="ui builder_button tf_in_flx tb_default_color" target="_blank" rel="noopener">
 REGISTER NOW                                        </a>
 </div>
 </div>
 <!-- /module buttons -->
 </div>
 </div>
 </div>
 </div>
 <!--/themify_builder_content--><br><br>View Full Event Description Here: <a href="https://www.fmiagent.com/event/webinar-the-sandwich-generation-from-athene-2/">https://www.fmiagent.com/event/webinar-the-sandwich-generation-from-athene-2/</a>
URL:https://www.fmiagent.com/event/webinar-the-sandwich-generation-from-athene-2/
CATEGORIES:Annuities,Athene Annuity,Upcoming
X-ALT-DESC;FMTTYPE=text/html:<!--themify_builder_content-->
 <div id="themify_builder_content-96090" data-postid="96090" class="themify_builder_content themify_builder_content-96090 themify_builder tf_clear">
 <div  data-lazy="1" class="module_row themify_builder_row tb_zt5q971 tf_w">
 <div class="row_inner col_align_top tb_col_count_1 tf_box tf_rel">
 <div  data-lazy="1" class="module_column tb-column col-full tb_8w58971 first">
 <!-- module text -->
 <div  class="module module-text tb_oi5e971   " data-lazy="1">
 <div  class="tb_text_wrap">
 <p>Join Athene’s Patti Hausherr, VP Sales Strategy, as she discusses why the Sandwich Generation may deliver the next wave of America’s retirement crisis, and how you can help clients work toward a remarkable retirement.</p><ul><li>Gain insights about the Sandwich Generation and the challenges they face</li><li>Learn how caregiving can impact the demographic physically, emotionally and financially</li><li>Discover ways to help Sandwich Generation clients support older loved ones and launch adult children while financially planning for their own secure retirement </li></ul>    </div>
 </div>
 <!-- /module text --><!-- module buttons -->
 <div  class="module module-buttons tb_v6y1972 buttons-horizontal solid   squared" data-lazy="1">
 <div class="module-buttons-item tf_in_flx">
 <a href="https://event.on24.com/wcc/r/5151312/564BD2179AF4AA9B56A4D36A67044966" class="ui builder_button tf_in_flx tb_default_color" target="_blank" rel="noopener">
 REGISTER NOW                                        </a>
 </div>
 </div>
 <!-- /module buttons -->
 </div>
 </div>
 </div>
 </div>
 <!--/themify_builder_content--><br><br>View Full Event Description Here: <a href="https://www.fmiagent.com/event/webinar-the-sandwich-generation-from-athene-2/">https://www.fmiagent.com/event/webinar-the-sandwich-generation-from-athene-2/</a>
LOCATION:https://www.fmiagent.com/event/webinar-the-sandwich-generation-from-athene-2/
END:VEVENT
END:VCALENDAR