BEGIN:VCALENDAR
VERSION:2.0
PRODID:-//Financial Markets Inc - ECPv6.15.20//NONSGML v1.0//EN
CALSCALE:GREGORIAN
METHOD:PUBLISH
X-ORIGINAL-URL:https://www.fmiagent.com
X-WR-CALDESC:Events for Financial Markets Inc
REFRESH-INTERVAL;VALUE=DURATION:PT1H
X-Robots-Tag:noindex
X-PUBLISHED-TTL:PT1H
BEGIN:VTIMEZONE
TZID:America/Chicago
BEGIN:DAYLIGHT
TZOFFSETFROM:-0600
TZOFFSETTO:-0500
TZNAME:CDT
DTSTART:20250309T080000
END:DAYLIGHT
BEGIN:STANDARD
TZOFFSETFROM:-0500
TZOFFSETTO:-0600
TZNAME:CST
DTSTART:20251102T070000
END:STANDARD
BEGIN:DAYLIGHT
TZOFFSETFROM:-0600
TZOFFSETTO:-0500
TZNAME:CDT
DTSTART:20260308T080000
END:DAYLIGHT
BEGIN:STANDARD
TZOFFSETFROM:-0500
TZOFFSETTO:-0600
TZNAME:CST
DTSTART:20261101T070000
END:STANDARD
BEGIN:DAYLIGHT
TZOFFSETFROM:-0600
TZOFFSETTO:-0500
TZNAME:CDT
DTSTART:20270314T080000
END:DAYLIGHT
BEGIN:STANDARD
TZOFFSETFROM:-0500
TZOFFSETTO:-0600
TZNAME:CST
DTSTART:20271107T070000
END:STANDARD
END:VTIMEZONE
BEGIN:VEVENT
DTSTART;TZID=America/Chicago:20260127T110000
DTEND;TZID=America/Chicago:20260127T120000
DTSTAMP:20260420T203917
CREATED:20260116T234348Z
LAST-MODIFIED:20260116T234348Z
UID:96362-1769511600-1769515200@www.fmiagent.com
SUMMARY:[WEBINAR] More for the Money: Maximizing Long-Term Care and Death Benefit Needs from Securian
DESCRIPTION:<!--themify_builder_content-->
 <div id="themify_builder_content-96362" data-postid="96362" class="themify_builder_content themify_builder_content-96362 themify_builder tf_clear">
 <div  data-lazy="1" class="module_row themify_builder_row tb_90qt385 tf_w">
 <div class="row_inner col_align_top tb_col_count_1 tf_box tf_rel">
 <div  data-lazy="1" class="module_column tb-column col-full tb_qyjw385 first">
 <!-- module text -->
 <div  class="module module-text tb_1fcs386   " data-lazy="1">
 <div  class="tb_text_wrap">
 <p><strong><b>Learn how a split 1035 can help reposition underperforming coverage</b></strong></p><p>Join us for this month’s webinar where we&#8217;ll focus on the split 1035 exchange — a powerful planning strategy for clients who want to reposition existing cash value to better address both their long-term care and chronic illness needs and legacy goals without paying additional premiums.</p><p>During this webinar, you’ll learn:</p><ul><li>How an internal split 1035 exchange works at Securian Financial</li><li>When this strategy may be appropriate for clients</li><li>How to position this strategy using a real-world case study </li></ul>    </div>
 </div>
 <!-- /module text --><!-- module buttons -->
 <div  class="module module-buttons tb_aq5m386 buttons-horizontal solid   squared" data-lazy="1">
 <div class="module-buttons-item tf_in_flx">
 <a href="https://securian.zoom.us/webinar/register/WN_flT3d7GbQKyXPLqUVzAiOw#/registration" class="ui builder_button tf_in_flx tb_default_color" target="_blank" rel="noopener">
 REGISTER NOW                                        </a>
 </div>
 </div>
 <!-- /module buttons -->
 </div>
 </div>
 </div>
 </div>
 <!--/themify_builder_content--><br><br>View Full Event Description Here: <a href="https://www.fmiagent.com/event/webinar-more-for-the-money-maximizing-long-term-care-and-death-benefit-needs-from-securian/">https://www.fmiagent.com/event/webinar-more-for-the-money-maximizing-long-term-care-and-death-benefit-needs-from-securian/</a>
URL:https://www.fmiagent.com/event/webinar-more-for-the-money-maximizing-long-term-care-and-death-benefit-needs-from-securian/
CATEGORIES:Life Insurance,Long Term Care,Securian Financial,Upcoming
X-ALT-DESC;FMTTYPE=text/html:<!--themify_builder_content-->
 <div id="themify_builder_content-96362" data-postid="96362" class="themify_builder_content themify_builder_content-96362 themify_builder tf_clear">
 <div  data-lazy="1" class="module_row themify_builder_row tb_90qt385 tf_w">
 <div class="row_inner col_align_top tb_col_count_1 tf_box tf_rel">
 <div  data-lazy="1" class="module_column tb-column col-full tb_qyjw385 first">
 <!-- module text -->
 <div  class="module module-text tb_1fcs386   " data-lazy="1">
 <div  class="tb_text_wrap">
 <p><strong><b>Learn how a split 1035 can help reposition underperforming coverage</b></strong></p><p>Join us for this month’s webinar where we&#8217;ll focus on the split 1035 exchange — a powerful planning strategy for clients who want to reposition existing cash value to better address both their long-term care and chronic illness needs and legacy goals without paying additional premiums.</p><p>During this webinar, you’ll learn:</p><ul><li>How an internal split 1035 exchange works at Securian Financial</li><li>When this strategy may be appropriate for clients</li><li>How to position this strategy using a real-world case study </li></ul>    </div>
 </div>
 <!-- /module text --><!-- module buttons -->
 <div  class="module module-buttons tb_aq5m386 buttons-horizontal solid   squared" data-lazy="1">
 <div class="module-buttons-item tf_in_flx">
 <a href="https://securian.zoom.us/webinar/register/WN_flT3d7GbQKyXPLqUVzAiOw#/registration" class="ui builder_button tf_in_flx tb_default_color" target="_blank" rel="noopener">
 REGISTER NOW                                        </a>
 </div>
 </div>
 <!-- /module buttons -->
 </div>
 </div>
 </div>
 </div>
 <!--/themify_builder_content--><br><br>View Full Event Description Here: <a href="https://www.fmiagent.com/event/webinar-more-for-the-money-maximizing-long-term-care-and-death-benefit-needs-from-securian/">https://www.fmiagent.com/event/webinar-more-for-the-money-maximizing-long-term-care-and-death-benefit-needs-from-securian/</a>
LOCATION:https://www.fmiagent.com/event/webinar-more-for-the-money-maximizing-long-term-care-and-death-benefit-needs-from-securian/
END:VEVENT
END:VCALENDAR