BEGIN:VCALENDAR
VERSION:2.0
PRODID:-//Financial Markets Inc - ECPv6.15.20//NONSGML v1.0//EN
CALSCALE:GREGORIAN
METHOD:PUBLISH
X-ORIGINAL-URL:https://www.fmiagent.com
X-WR-CALDESC:Events for Financial Markets Inc
REFRESH-INTERVAL;VALUE=DURATION:PT1H
X-Robots-Tag:noindex
X-PUBLISHED-TTL:PT1H
BEGIN:VTIMEZONE
TZID:America/Chicago
BEGIN:DAYLIGHT
TZOFFSETFROM:-0600
TZOFFSETTO:-0500
TZNAME:CDT
DTSTART:20240310T080000
END:DAYLIGHT
BEGIN:STANDARD
TZOFFSETFROM:-0500
TZOFFSETTO:-0600
TZNAME:CST
DTSTART:20241103T070000
END:STANDARD
BEGIN:DAYLIGHT
TZOFFSETFROM:-0600
TZOFFSETTO:-0500
TZNAME:CDT
DTSTART:20250309T080000
END:DAYLIGHT
BEGIN:STANDARD
TZOFFSETFROM:-0500
TZOFFSETTO:-0600
TZNAME:CST
DTSTART:20251102T070000
END:STANDARD
BEGIN:DAYLIGHT
TZOFFSETFROM:-0600
TZOFFSETTO:-0500
TZNAME:CDT
DTSTART:20260308T080000
END:DAYLIGHT
BEGIN:STANDARD
TZOFFSETFROM:-0500
TZOFFSETTO:-0600
TZNAME:CST
DTSTART:20261101T070000
END:STANDARD
END:VTIMEZONE
BEGIN:VEVENT
DTSTART;TZID=America/Chicago:20250813T140000
DTEND;TZID=America/Chicago:20250813T150000
DTSTAMP:20260424T112851
CREATED:20250811T163015Z
LAST-MODIFIED:20250811T163015Z
UID:87589-1755093600-1755097200@www.fmiagent.com
SUMMARY:[WEBINAR] Interest Crediting: The Key to Upside Potential & Downside Protection from National Life Group
DESCRIPTION:<!--themify_builder_content-->
 <div id="themify_builder_content-87589" data-postid="87589" class="themify_builder_content themify_builder_content-87589 themify_builder tf_clear">
 <div  data-lazy="1" class="module_row themify_builder_row tb_9ys0655 tf_w">
 <div class="row_inner col_align_top tb_col_count_1 tf_box tf_rel">
 <div  data-lazy="1" class="module_column tb-column col-full tb_6dgx656 first">
 <!-- module text -->
 <div  class="module module-text tb_xx8m656   " data-lazy="1">
 <div  class="tb_text_wrap">
 <p>Unlock the method to how we provide your clients with upside potential &amp; downside protection.  Indexing holds the key by offering a unique way of crediting interest to policyholders, allowing them to participate in the upward movement of the underlying indexes with no risk of loss.  This webinar will walk you through how indexing works, and take you on a tour through NLG’s suite of indexes.</p>    </div>
 </div>
 <!-- /module text --><!-- module buttons -->
 <div  class="module module-buttons tb_vev2656 buttons-horizontal solid   squared" data-lazy="1">
 <div class="module-buttons-item tf_in_flx">
 <a href="https://nationallife.zoom.us/webinar/register/WN_ptrzN-XOT_KtEzx4xPbpWg" class="ui builder_button tf_in_flx tb_default_color" target="_blank" rel="noopener">
 REGISTER NOW                                        </a>
 </div>
 </div>
 <!-- /module buttons -->
 </div>
 </div>
 </div>
 </div>
 <!--/themify_builder_content--><br><br>View Full Event Description Here: <a href="https://www.fmiagent.com/event/webinar-interest-crediting-the-key-to-upside-potential-downside-protection-from-national-life-group-5/">https://www.fmiagent.com/event/webinar-interest-crediting-the-key-to-upside-potential-downside-protection-from-national-life-group-5/</a>
URL:https://www.fmiagent.com/event/webinar-interest-crediting-the-key-to-upside-potential-downside-protection-from-national-life-group-5/
CATEGORIES:Annuities,Life Insurance,National Life Group (LSW),Upcoming
X-ALT-DESC;FMTTYPE=text/html:<!--themify_builder_content-->
 <div id="themify_builder_content-87589" data-postid="87589" class="themify_builder_content themify_builder_content-87589 themify_builder tf_clear">
 <div  data-lazy="1" class="module_row themify_builder_row tb_9ys0655 tf_w">
 <div class="row_inner col_align_top tb_col_count_1 tf_box tf_rel">
 <div  data-lazy="1" class="module_column tb-column col-full tb_6dgx656 first">
 <!-- module text -->
 <div  class="module module-text tb_xx8m656   " data-lazy="1">
 <div  class="tb_text_wrap">
 <p>Unlock the method to how we provide your clients with upside potential &amp; downside protection.  Indexing holds the key by offering a unique way of crediting interest to policyholders, allowing them to participate in the upward movement of the underlying indexes with no risk of loss.  This webinar will walk you through how indexing works, and take you on a tour through NLG’s suite of indexes.</p>    </div>
 </div>
 <!-- /module text --><!-- module buttons -->
 <div  class="module module-buttons tb_vev2656 buttons-horizontal solid   squared" data-lazy="1">
 <div class="module-buttons-item tf_in_flx">
 <a href="https://nationallife.zoom.us/webinar/register/WN_ptrzN-XOT_KtEzx4xPbpWg" class="ui builder_button tf_in_flx tb_default_color" target="_blank" rel="noopener">
 REGISTER NOW                                        </a>
 </div>
 </div>
 <!-- /module buttons -->
 </div>
 </div>
 </div>
 </div>
 <!--/themify_builder_content--><br><br>View Full Event Description Here: <a href="https://www.fmiagent.com/event/webinar-interest-crediting-the-key-to-upside-potential-downside-protection-from-national-life-group-5/">https://www.fmiagent.com/event/webinar-interest-crediting-the-key-to-upside-potential-downside-protection-from-national-life-group-5/</a>
LOCATION:https://www.fmiagent.com/event/webinar-interest-crediting-the-key-to-upside-potential-downside-protection-from-national-life-group-5/
END:VEVENT
END:VCALENDAR