BEGIN:VCALENDAR
VERSION:2.0
PRODID:-//Financial Markets Inc - ECPv6.15.20//NONSGML v1.0//EN
CALSCALE:GREGORIAN
METHOD:PUBLISH
X-ORIGINAL-URL:https://www.fmiagent.com
X-WR-CALDESC:Events for Financial Markets Inc
REFRESH-INTERVAL;VALUE=DURATION:PT1H
X-Robots-Tag:noindex
X-PUBLISHED-TTL:PT1H
BEGIN:VTIMEZONE
TZID:America/Chicago
BEGIN:DAYLIGHT
TZOFFSETFROM:-0600
TZOFFSETTO:-0500
TZNAME:CDT
DTSTART:20240310T080000
END:DAYLIGHT
BEGIN:STANDARD
TZOFFSETFROM:-0500
TZOFFSETTO:-0600
TZNAME:CST
DTSTART:20241103T070000
END:STANDARD
BEGIN:DAYLIGHT
TZOFFSETFROM:-0600
TZOFFSETTO:-0500
TZNAME:CDT
DTSTART:20250309T080000
END:DAYLIGHT
BEGIN:STANDARD
TZOFFSETFROM:-0500
TZOFFSETTO:-0600
TZNAME:CST
DTSTART:20251102T070000
END:STANDARD
BEGIN:DAYLIGHT
TZOFFSETFROM:-0600
TZOFFSETTO:-0500
TZNAME:CDT
DTSTART:20260308T080000
END:DAYLIGHT
BEGIN:STANDARD
TZOFFSETFROM:-0500
TZOFFSETTO:-0600
TZNAME:CST
DTSTART:20261101T070000
END:STANDARD
END:VTIMEZONE
BEGIN:VEVENT
DTSTART;TZID=America/Chicago:20250903T140000
DTEND;TZID=America/Chicago:20250903T150000
DTSTAMP:20260424T134737
CREATED:20250815T191740Z
LAST-MODIFIED:20250815T191740Z
UID:87890-1756908000-1756911600@www.fmiagent.com
SUMMARY:[WEBINAR] E-App for Life Insurance: Become a Pro with iGo E-App from National Life Group
DESCRIPTION:<!--themify_builder_content-->
 <div id="themify_builder_content-87890" data-postid="87890" class="themify_builder_content themify_builder_content-87890 themify_builder tf_clear">
 <div  data-lazy="1" class="module_row themify_builder_row tb_kzhp714 tf_w">
 <div class="row_inner col_align_top tb_col_count_1 tf_box tf_rel">
 <div  data-lazy="1" class="module_column tb-column col-full tb_rs75714 first">
 <!-- module text -->
 <div  class="module module-text tb_t78e714   " data-lazy="1">
 <div  class="tb_text_wrap">
 <p>Do you want to speed up the application process and get paid faster? Do you want to cut down on NIGO (Not In Good Order) business? This Webinar will show you how to utilize our E-App system to submit your business electronically. This session is for any Agent who wants to learn how to submit their business electronically. </p>    </div>
 </div>
 <!-- /module text --><!-- module buttons -->
 <div  class="module module-buttons tb_tpte714 buttons-horizontal solid   squared" data-lazy="1">
 <div class="module-buttons-item tf_in_flx">
 <a href="https://nationallife.zoom.us/webinar/register/WN_T4I4m6qGRoqReq1QUatn3w" class="ui builder_button tf_in_flx tb_default_color" target="_blank" rel="noopener">
 REGISTER NOW                                        </a>
 </div>
 </div>
 <!-- /module buttons -->
 </div>
 </div>
 </div>
 </div>
 <!--/themify_builder_content--><br><br>View Full Event Description Here: <a href="https://www.fmiagent.com/event/webinar-e-app-for-life-insurance-become-a-pro-with-igo-e-app-from-national-life-group-30/">https://www.fmiagent.com/event/webinar-e-app-for-life-insurance-become-a-pro-with-igo-e-app-from-national-life-group-30/</a>
URL:https://www.fmiagent.com/event/webinar-e-app-for-life-insurance-become-a-pro-with-igo-e-app-from-national-life-group-30/
CATEGORIES:Life Insurance,National Life Group (LSW),Upcoming
X-ALT-DESC;FMTTYPE=text/html:<!--themify_builder_content-->
 <div id="themify_builder_content-87890" data-postid="87890" class="themify_builder_content themify_builder_content-87890 themify_builder tf_clear">
 <div  data-lazy="1" class="module_row themify_builder_row tb_kzhp714 tf_w">
 <div class="row_inner col_align_top tb_col_count_1 tf_box tf_rel">
 <div  data-lazy="1" class="module_column tb-column col-full tb_rs75714 first">
 <!-- module text -->
 <div  class="module module-text tb_t78e714   " data-lazy="1">
 <div  class="tb_text_wrap">
 <p>Do you want to speed up the application process and get paid faster? Do you want to cut down on NIGO (Not In Good Order) business? This Webinar will show you how to utilize our E-App system to submit your business electronically. This session is for any Agent who wants to learn how to submit their business electronically. </p>    </div>
 </div>
 <!-- /module text --><!-- module buttons -->
 <div  class="module module-buttons tb_tpte714 buttons-horizontal solid   squared" data-lazy="1">
 <div class="module-buttons-item tf_in_flx">
 <a href="https://nationallife.zoom.us/webinar/register/WN_T4I4m6qGRoqReq1QUatn3w" class="ui builder_button tf_in_flx tb_default_color" target="_blank" rel="noopener">
 REGISTER NOW                                        </a>
 </div>
 </div>
 <!-- /module buttons -->
 </div>
 </div>
 </div>
 </div>
 <!--/themify_builder_content--><br><br>View Full Event Description Here: <a href="https://www.fmiagent.com/event/webinar-e-app-for-life-insurance-become-a-pro-with-igo-e-app-from-national-life-group-30/">https://www.fmiagent.com/event/webinar-e-app-for-life-insurance-become-a-pro-with-igo-e-app-from-national-life-group-30/</a>
LOCATION:https://www.fmiagent.com/event/webinar-e-app-for-life-insurance-become-a-pro-with-igo-e-app-from-national-life-group-30/
END:VEVENT
END:VCALENDAR